Workbook

Sheet Notice d'utilisation
A1: CFPPA du Morbihan: Appel à projets 2026 Fichier bilan de saisie et traitement des données issues des questionnaires d'évaluation d'impact Notice d'utilisation
A2: De quoi s'agit-il ?
A4: Ce fichier est un outil transmis par la CFPPA du Morbihan aux porteurs financés en 2026.
A5: Il permet de transmettre un bilan complet de l'action, incluant des données quantitatives, explicatives, ainsi que la mesure de l'impact de l'action sur les participants. Pour vous, 2 points positifs: les questionnaires sont fournis clé en main; et cet outil vous permet de visualiser l'impact de votre action grâce à des schémas générés automatiquement dans l'onglet "Présentation des résultats"
A7: Que contient-il ? Comment s'en servir ?
A9: Le fichier comporte :
A10: > un onglet "Données Bilan": il doit être rempli par tous les porteurs. Il permet au Département et à la CNSA d'avoir des données chiffrées sur les participants aux actions financées ; ainsi que des données qualitatives issues de votre analyse. > un onglet " EHPAD" : il ne doit être rempli que si le porteur est un EHPAD et/ou que l'action a eu lieu auprès des résidents de l'établissement > l'onglet "Autres résultats": si vous souhaitez nous partager vos résultats d'évaluation issus d'autres outils utilisés en complément: Step 1 ICOPE par exemple, test physique ect > un onglet "Questionnaire à chaud" : à compléter directement avec les réponses aux questionnaires auxquels ont répondu les participants, juste à la fin de l'action. Les cellules présentent un menu déroulant à utiliser afin que la démarche soit simplifiée pour vous. Les questionnaires vous sont joints en version Word > un onglet "Questionnaire à froid": à compléter avec les réponses aux questionnaires auxquels ont répondu les participants, contactés individuellement 3 mois après la fin de l'action. Le menu déroulant est présent également. Les premières questions (âge, CSP, commune de résidence) n'apparaissent pas afin d'alléger le format. Soyez vigilant à bien faire correspondre chaque participant avec une ligne numérotée (ex: Participant 1= Madame X, interrogée à chaud puis à froid) > l'onglet "Présentation résultats" : il propose une mise en page des graphiques obtenus, suite à l'analyse automatique des données que vous avez remplies. Vous pouvez ajouter des commentaires sur les résultats obtenus
A12: Un guide d'utilisation est également disponible pour des questions complémentaires. En cas de doute, écrivez à estelle.flamand@morbihan.fr

Sheet Données Bilan
A1: Données quantitatives
A4: Année de financement | B4: 2026
A5: Nom du porteur
A6: Nom de l'action
A7: Prénom et nom de la personne en charge du bilan
A8: Adresse mail de de la personne en charge du bilan
A9: Thématique principale
A10: Thématique complémentaire 1
A11: Thématique complémentaire 2
A12: Nombre actions (= nombre de groupes différents)
A13: Nombre de séances réalisées par groupe
A14: Total bénéficiaires
A15: Par âge | B15: 60 à 69 ans
B16: 70 à 79 ans
B17: 80 à 89 ans
B18: 90 ans et plus | D18: Le total des bénéficiaires par âge ne correspond pas au total des bénéficiaires indiqué en cellule B7
B19: Contrôle cohérence | C19: =#REF!=(SUM(C15:C18)) -> #REF! | D19: =IF(C19=FALSE,D18,"") -> #REF!
A21: Par sexe | B21: Homme
B22: Femme | D22: Le total des bénéficiaires pas sexe ne correspond pas au total des bénéficiaires indiqué en cellule B7
B23: Contrôle cohérence | C23: =#REF!=(SUM(C21:C22)) -> #REF! | D23: =IF(C23=FALSE,D22,"") -> #REF!
A25: Par GIR | B25: 1 à 4
B26: 5,6 et non GIRés | D26: Le total des bénéficiaires par GIR ne correspond pas au total des bénéficiaires indiqué en cellule B7
A28: Données qualitatives | B28: Contrôle cohérence | C28: =#REF!=(SUM(C25:C26)) -> #REF! | D28: =IF(C28=FALSE,D26,"") -> #REF!
A29: Quels types de démarches avez-vous mis en œuvre pour atteindre les personnes en situation de vulnérabilité ? (Ex: Appels téléphoniques; bouche à oreille; moyens de communication locaux…)
A30: Y a-t-il eu des évolutions par rapport au projet déposé? Si oui lesquelles? (Ex: moyens humains, matériels, communes de réalsiation, partenaires, dates…)
A32: Points forts de votre action :(= ce qui a fonctionné, que vous souhaitez valoriser)
A36: Points faibles de votre action (= ce qui n'a pas fonctionné, qu'il faudrait améliorer, les freins rencontrés) :
A40: Perspectives : Souhait de renouveler l'action? Si oui avec quelles évolutions? Si non, pourquoi?
A44: Actions aidants
A46: Depuis 2025, la CNSA souhaite connaitre plus précisément les profils des personnes aidantes, qui ont participé à une action sur le soutien aux aidants.
A48: Total aidants
A50: Par âge | B50: Moins de 25 ans
B51: de 26 à 60
B52: plus de 60 ans | D52: Le total des aidants par âge ne correspond pas au total des aidants indiqué en cellule B40
B53: Contrôle cohérence | C53: =B48=(SUM(C50:C52)) -> TRUE | D53: =IF(C53=FALSE,D52,"")

Sheet Feuil1
A1: Activité physique | B1: Activité physique
A2: Alimentation | B2: Alimentation
A3: Santé mentale | B3: Santé mentale
A4: Santé cognitive | B4: Santé cognitive
A5: Santé auditive | B5: Santé auditive
A6: Santé visuelle | B6: Santé visuelle
B7: Lien social
B8: Habitat
B9: Mobilité
B10: Accès aux droits
B11: Usage du numérique
B12: Préparation à la retraite

Sheet Financement
C2: Appel à projets commun - Bilan de l'opération 2026
C9: 4 - FINANCEMENT DE L'ACTION
X13: Total Projet
N16: Cout de l'opération | X16: =U67 -> 0
N20: =AA41 -> Subvention accordée
N23: Autres aides
N26: Participation bénéficiaire | X26: =AP63 -> 0
N29: Autofinancement | X29: =AP65 -> 0
C33: BUDGET GLOBAL
C36: Dépenses | AA36: Recettes
C39: Poste | U39: Montant | AA39: Financements | AP39: Montant | AT39: Taux
AA41: Subvention accordée | AT41: =IF($AP$67=0,"",AP41/$AP$67)
AA43: Région
AA45: Commune ou EPCI
AA47: Fondaition de France | AT47: =IF($AP$67=0,"",AP47/$AP$67)
AA49: Si autres, précisez ci-dessous : | AT49: =IF($AP$67=0,"",AP49/$AP$67)
AT51: =IF($AP$67=0,"",AP51/$AP$67)
AT53: =IF($AP$67=0,"",AP53/$AP$67)
AT55: =IF($AP$67=0,"",AP55/$AP$67)
AT57: =IF($AP$67=0,"",AP57/$AP$67)
AT59: =IF($AP$67=0,"",AP59/$AP$67)
AT61: =IF($AP$67=0,"",AP61/$AP$67)
AA63: Participation des publics
AA65: Autofinancement | AT65: =IF($AP$67=0,"",AP65/$AP$67)
C67: TOTAL DEPENSES DE L'EXERCICE | U67: =SUM(U41:AA66) -> 0 | AA67: TOTAL RECETTES DE L'EXERCICE | AP67: =AP41+AP63+AP65+SUM(AP43:AS62) -> 0 | AT67: =IF(B92=0,"",AP67/$AP$67)

Sheet  EHPAD
A1: Infos complémentaires EHPAD | G1: Oui
G2: Non
A3: Merci de compléter ces données si vous êtes un EHPAD porteur d'une action, et/ou si l'action a eu lieu auprès des résidents de l'établissement.
A5: Nombre de résidents ayant participé à l'action
A7: Nombre de personnes extérieures (habitants, aidants) ayant participé à l'action (notion obligatoire pour obtenir un financement de la CFPPA)
A9: Avez-vous eu le nombre de bénéficiaires que vous attendiez ?
A11: Si non, pourquoi ?
A15: Si vous avez fait appel à un prestataire pour mettre en place l'action dans votre établissement, en êtes vous satisfait ?
A17: Si non, pourquoi?
A21: Si oui … Envisagez-vous des ajustements à ce projet ? Précisez

Sheet Autres résultats (facultatifs)
A1: Autres résultats
A3: Step 1 ICOPE par exemple

Sheet Questionnaire à chaud
D1: Q1 | E1: Q2 | F1: Q3 | G1: Q4 | H1: Q4 bis | I1: Q5 | J1: Q6 | K1: Q7 | L1: Q8 | M1: Q9 | N1: Q10 | O1: Q10 bis | P1: Q11 | Q1: Q12 | R1: Q12 bis | S1: Q13 | T1: Q14 | U1: Q15 | V1: Q16 | W1: Q17
A2: Participants | B2: Date collecte | C2: Commune du déploiement de l'action | D2: Âge | E2: Sexe | F2: Catégorie socio-professionnelle (CSP) | G2: Vit seul ou non | H2: Vit seul ou non - 2 | I2: Code postal | J2: Connaissance de l'action | K2: Sentiment d'isolement | L2: Isolée: en souffre? | M2: Personne en difficulté? | N2: Taux de satisfaction | O2: Taux de satisfaction - 2 | P2: La personne est informée, a de nouvelles connaissances | Q2: La personne a l'intention de changer ses comportements | R2: La personne a l'intention de changer ses comportements - 2 | S2: La personne se sent en capacité de modifier ses comportements | T2: La personne déclare avoir repris ou entrepris de nouvelles activités | U2: La personne a davantage confiance en elle et en sa capacité à agir | V2: La personne se sent en meilleure santé | W2: La personne souhaite créer des liens durables avec d'autres personnes
B3: Date remplissage questionnaire par répondant | D3: > Quel âge avez-vous ? | E3: > Êtes-vous ? | F3: > Quelle était votre activité avant la retraite? | G3: > Vivez-vous : | H3: avec une ou plusieurs autres personnes (préciser : texte libre) | I3: > Quel est votre code postal ? | J3: Comment avez-vous eu connaissance de cette action ? | K3: Dans la vie en général, vous arrive t’il de vous sentir seul ? | L3: Si oui, en souffrez-vous? | M3: Dans la vie en général, vous sentez-vous en difficulté avec … thématique cible ? | N3: > Etes-vous satisfait de l'action ? | O3: > Pouvez-vous expliquer en quelques mots pourquoi ? (texte libre) | P3: > Au cours de l'action, avez-vous reçu des informations ou des conseils utiles pour (préciser le(s) sujet(s) de l'action) ? EX: éviter les chutes, favoriser le sommeil etc | Q3: > Pensez-vous mettre en œuvre dans votre vie quotidienne les conseils reçus au cours de l'action (exemples) ? | R3: > Si non, pourquoi ? (texte libre) | S3: > Grâce à l'action, vous sentez-vous capable de faire des choses nouvelles ou de refaire des choses que vous ne faisiez plus (préciser exemples) ? | T3: > Grâce à l'action, réalisez-vous des choses nouvelles ou refaites-vous des choses que vous ne faisiez plus (exemples) ? | U3: > Direz-vous que l'action vous a donné davantage confiance en vous et en votre capacité à préciser la thématique ? | V3: > Grâce à l'action, avez-vous constaté une amélioration de préciser le(s) sujet(s)) dans la vie de tous les jours ? | W3: Grâce à l'action, avez-vous développé des relations avec de nouvelles personnes? > Si oui, pensez-vous garder des liens avec elles ?
A4: Participant 1 Exemple | D4: 60-69 ans | E4: Une femme | F4: Profession intermédiaire | G4: avec votre conjoint | I4: 56700 | J4: Je connaissais déjà la structure | K4: Souvent | L4: Oui un peu | M4: Je me sens souvent en difficulté | N4: Satisfaisait | P4: Oui un peu | Q4: Oui tout à fait | T4: Oui tout à fait | U4: Oui un peu | V4: Oui un peu | W4: Non pas vraiment
A5: Participant 2
A6: Participant 3
A7: Participant 4
A8: Participant 5
A9: Participant 6
A10: Participant 7
A11: Participant 8
A12: Participant 9
A13: Participant 10
A14: Participant 11
A15: Participant 12
A16: Participant 13
... A30: Participant 27

Sheet Questionnaire à froid
F1: Q1 | G1: Q1 bis | H1: Q2 | I1: Q3 | J1: Q4 | K1: Q5 | L1: Q6 | M1: Q7
A2: Participants | B2: Date participation | C2: Date collecte | D2: Délai (auto) | E2: Commune du déploiement de l'action | F2: La personne change ses comportements | G2: La personne change ses comportements - 2 | H2: Améliorations possibles | I2: La personne déclare avoir repris ou entrepris de nouvelles activités | J2: La personne a davantage confiance en elle et en sa capacité à agir | K2: La personne se sent en meilleure santé | L2: La personne a créé des liens durables avec d'autres participants | M2: La personne se sent moins seule
B3: Date de participation à l'action par le répondant (dernière session de l'action si plusieurs) | C3: Date remplissage questionnaire par répondant | D3: Temps écoulé depuis la participation à l'action (dernière session si plusieurs) en jours | F3: > Avez-vous appliqué les conseils reçus pendant l'action pour améliorer votre quotidien sur (thématique de l'action) ? | G3: > Si oui, quels conseils ? | H3: Selon vous, qu'est-ce qui pourrait être améioré dans l'action pour qu'elle vous soit encore plus utile dans votre quotidien? | I3: > Grâce à l'action, réalisez-vous des choses nouvelles ou refaites-vous des choses que vous ne faisiez plus (exemples) ? | J3: > Direz-vous que l'action vous a donné davantage confiance en vous et en votre capacité à prendre soin de préciser la thématique ? | K3: > Grâce à l'action, avez-vous constaté une amélioration de (préciser le(s) sujet(s)) dans la vie de tous les jours ? | L3: Si vous aviez déclaré avoir lié de nouvelles relations, les avez-vous gardées ? | M3: Si vous aviez déclaré vous sentir seul, l’action vous a-t-elle aidé à vous sentir moins seul ?
A4: Participant 1 Exemple | D4: =C4-B4 -> 0 | F4: Oui un peu | I4: Oui un peu | J4: Oui un peu | K4: Non pas vraiment | L4: oui, avec une ou deux | M4: Oui un peu
A5: Participant 2 | D5: =C5-B5 -> 0
A6: Participant 3 | D6: =C6-B6 -> 0
A7: Participant 4 | D7: =C7-B7 -> 0
A8: Participant 5 | D8: =C8-B8 -> 0
A9: Participant 6 | D9: =C9-B9 -> 0
A10: Participant 7 | D10: =C10-B10 -> 0
A11: Participant 8 | D11: =C11-B11 -> 0
A12: Participant 9 | D12: =C12-B12 -> 0
A13: Participant 10 | D13: =C13-B13 -> 0
A14: Participant 11 | D14: =C14-B14 -> 0
A15: Participant 12 | D15: =C15-B15 -> 0
A16: Participant 13 | D16: =C16-B16 -> 0
... A30: Participant 27 | D30: =C30-B30 -> 0
D31: =C31-B31 -> 0
D32: =C32-B32 -> 0
D33: =C33-B33 -> 0
D34: =C34-B34 -> 0
D35: =C35-B35 -> 0
D36: =C36-B36 -> 0
D37: =C37-B37 -> 0
D38: =C38-B38 -> 0
D39: =C39-B39 -> 0
D40: =C40-B40 -> 0
D41: =C41-B41 -> 0
D42: =C42-B42 -> 0
... D101: =C101-B101 -> 0

Sheet Analyse à chaud (MASQUER)
A1: Analyse des données - questionnaire à chaud
A2: Les cellules grisées sont automatiquement complétées à l'aide des données issues du questionnaire à chaud.
A3: Les éléments surlignés en jaune sont à compléter. Il est possible de modifier les intitulés des questions et les titres des graphiques.
A4: Les formats et couleurs des graphes peuvent être modifiés, en veillant à la lisibilité.
A6: Nombre de répondants | B6: =COUNTIF('Questionnaire à chaud'!D4:D1048576,"<>") -> 1
A7: Nombre de participants | B7: 0
A8: TAUX DE REPONSE | B8: =B6/B7 -> #DIV/0!
A10: PROFIL DES PARTICIPANTS
A12: Q1 - Âge | B12: Quel âge avez-vous ?
A13: 60-69 ans | B13: =COUNTIF('Questionnaire à chaud'!D$4:D$1048576,A13) -> 1
A14: 70-79 ans | B14: =COUNTIF('Questionnaire à chaud'!D$4:D$1048576,A14) -> 0
A15: 80-89 ans | B15: =COUNTIF('Questionnaire à chaud'!D$4:D$1048576,A15) -> 0
A16: 90 ans et plus | B16: =COUNTIF('Questionnaire à chaud'!D$4:D$1048576,A16) -> 0
A19: Q2 - Sexe | B19: Êtes-vous ?
A20: Un homme | B20: =COUNTIF('Questionnaire à chaud'!E$4:E$1048576,A20) -> 0
A21: Une femme | B21: =COUNTIF('Questionnaire à chaud'!E$4:E$1048576,A21) -> 1
A24: Q3 - Catégorie socio-professionnelle (CSP) | B24: Quelle était votre activité avant la retraite?
A25: Ouvrier | B25: =COUNTIF('Questionnaire à chaud'!F$4:F$1048576,A25) -> 0
A26: Employé | B26: =COUNTIF('Questionnaire à chaud'!F$4:F$1048576,A26) -> 0
A27: Profession intermédiaire | B27: =COUNTIF('Questionnaire à chaud'!F$4:F$1048576,A27) -> 1
A28: Cadre, profession intellectuelle supérieure | B28: =COUNTIF('Questionnaire à chaud'!F$4:F$1048576,A28) -> 0
A29: Artisan, commerçant ou chef d'entreprise | B29: =COUNTIF('Questionnaire à chaud'!F$4:F$1048576,A29) -> 0
A30: Agriculteur exploitant | B30: =COUNTIF('Questionnaire à chaud'!F$4:F$1048576,A30) -> 0
A31: Sans activité professionnelle | B31: =COUNTIF('Questionnaire à chaud'!F$4:F$1048576,A31) -> 0
A34: Q4 - Vit seul ou non | B34: Vivez-vous ?
A35: seul | B35: =COUNTIF('Questionnaire à chaud'!G$4:G$1048576,A35) -> 0
A36: avec votre conjoint | B36: =COUNTIF('Questionnaire à chaud'!G$4:G$1048576,A36) -> 1
A37: avec une ou plusieurs autres personnes (préciser : texte libre) | B37: =COUNTIF('Questionnaire à chaud'!G$4:G$1048576,A37) -> 0
A39: Q 4 Bis Vis seul ou non - 2 | B39: avec une ou plusieurs autres personnes (préciser : texte libre)
A40: Données qualitatives à analyser
A43: Q5 - Code postal | B43: > Quel est votre code postal ?
A44: à compléter selon les réponses
A47: CONNAISSANCE DE L'ACTION
A49: Q6 - Connaissance de l'action | B49: Comment avez-vous eu connaissance de cette action ?
A50: Je connaissais déjà la structure | B50: =COUNTIF('Questionnaire à chaud'!J$4:J$1048576,A50) -> 1
A51: Un proche m'en a parlé | B51: =COUNTIF('Questionnaire à chaud'!J$4:J$1048576,A51) -> 0
A52: Un professionnel m’en a parlé | B52: =COUNTIF('Questionnaire à chaud'!J$4:J$1048576,A52) -> 0
A53: Autre : précisez | B53: =COUNTIF('Questionnaire à chaud'!J$4:J$1048576,A53) -> 0
A55: Q7 - Participation autre action | B55: Avez-vous déjà participé à une action de prévention ?
A56: oui | B56: =COUNTIF('Questionnaire à chaud'!#REF!,A56) -> #REF!
...

Sheet Analyse à froid (MASQUER)
A1: Analyse des données - questionnaire à froid
A2: Les cellules grisées sont automatiquement complétées à l'aide des données issues du questionnaire à froid.
A3: Les éléments surlignés en jaune sont à compléter. Il est possible de modifier les titres des graphiques.
A4: Les formats et couleurs des graphes peuvent être modifiés, en veillant à la lisibilité.
A6: Nombre de répondants | B6: =COUNTIF('Questionnaire à froid'!#REF!,"<>") -> #REF! | D6: Temps moyen écoulé depuis participation à l'action (dernière session si plusieurs)
A7: Nombre de participants | B7: 0 | D7: =AVERAGE('Questionnaire à froid'!D4:D1048576) -> 0 | E7: jours
A8: TAUX DE REPONSE | B8: =B6/B7 -> #REF!
A10: PROFIL DES PARTICIPANTS
A12: Q 1 - Âge | B12: Quel âge avez-vous ?
A13: 60-69 ans | B13: =COUNTIF('Questionnaire à froid'!#REF!,A13) -> #REF!
A14: 70-79 ans | B14: =COUNTIF('Questionnaire à froid'!#REF!,A14) -> #REF!
A15: 80-89 ans | B15: =COUNTIF('Questionnaire à froid'!#REF!,A15) -> #REF!
A16: 90 ans et plus | B16: =COUNTIF('Questionnaire à froid'!#REF!,A16) -> #REF!
A19: Q 2 - Sexe | B19: Êtes-vous ?
A20: Un homme | B20: =COUNTIF('Questionnaire à froid'!#REF!,A20) -> #REF!
A21: Une femme | B21: =COUNTIF('Questionnaire à froid'!#REF!,A21) -> #REF!
A24: Q 3 - Catégorie socio-professionnelle (CSP) | B24: Quelle était votre activité avant la retraite?
A25: Ouvrier | B25: =COUNTIF('Questionnaire à froid'!#REF!,A25) -> #REF!
A26: Employé | B26: =COUNTIF('Questionnaire à froid'!#REF!,A26) -> #REF!
A27: Profession intermédiaire | B27: =COUNTIF('Questionnaire à froid'!#REF!,A27) -> #REF!
A28: Cadre, profession intellectuelle supérieure | B28: =COUNTIF('Questionnaire à froid'!#REF!,A28) -> #REF!
A29: Artisan, commerçant ou chef d'entreprise | B29: =COUNTIF('Questionnaire à froid'!#REF!,A29) -> #REF!
A30: Agriculteur exploitant | B30: =COUNTIF('Questionnaire à froid'!#REF!,A30) -> #REF!
A31: Sans activité professionnelle | B31: =COUNTIF('Questionnaire à froid'!#REF!,A31) -> #REF!
A34: Q4 - Vit seul ou non | B34: Vivez-vous ?
A35: seul | B35: =COUNTIF('Questionnaire à froid'!#REF!,A35) -> #REF!
A36: avec votre conjoint | B36: =COUNTIF('Questionnaire à froid'!#REF!,A36) -> #REF!
A37: avec une ou plusieurs autres personnes (préciser : texte libre) | B37: =COUNTIF('Questionnaire à froid'!#REF!,A37) -> #REF!
A40: Q4 Bis - Vit avec une ou plusieurs personnes | B40: avec une ou plusieurs autres personnes (préciser : texte libre)
A41: Données qualitatives à analyser
A44: Q5 - Code postal | B44: > Quel est votre code postal ?
A45: Données qualitatives à analyser
A48: IMPACT
A49: Q6 - La personne change ses comportements | B49: Avez-vous appliqué les conseils reçus pendant l'action pour améliorer votre quotidien sur (thématique, exemples…) ?
A50: Oui tout à fait | B50: =COUNTIF('Questionnaire à froid'!F$4:F$1048576,A50) -> 0
A51: Oui un peu | B51: =COUNTIF('Questionnaire à froid'!F$4:F$1048576,A51) -> 1
A52: Non pas vraiment | B52: =COUNTIF('Questionnaire à froid'!F$4:F$1048576,A52) -> 0
A53: Non pas du tout | B53: =COUNTIF('Questionnaire à froid'!F$4:F$1048576,A53) -> 0
A54: Je ne sais pas | B54: =COUNTIF('Questionnaire à froid'!F$4:F$1048576,A54) -> 0
A57: Q6 Bis - La personne change ses comportements - 2 | B57: > Si oui, quels conseils ?
...

Sheet Présentation résultats
A1: Présentation de l'évaluation de l'action "…." réalisée (date)
A2: Démarche d'évaluation
C4: Nombre de répondants à chaud | F4: ='Analyse à chaud (MASQUER)'!B6 -> 1 | H4: Nombre de répondants à froid | K4: =COUNTIF('Questionnaire à froid'!I2:I1048574,"<>") -> 3
C5: Nombre de participants | F5: ='Analyse à chaud (MASQUER)'!B7 -> 0 | H5: Nombre de participants | K5: ='Analyse à froid (MASQUER)'!B7 -> 0
C6: Taux de réponse | F6: ='Analyse à chaud (MASQUER)'!B8 -> #DIV/0! | H6: Taux de réponse | K6: =K4/K5 -> #DIV/0!
C8: Modalités passation questionnaire à chaud : | H8: Modalités passation questionnaire à froid :
A19: Profil des participants
D21: A chaud | I21: A froid
A85: Satisfaction
D87: A chaud
A105: Impact
D107: A chaud
D162: A froid

Sheet Liste réponse - ne pas modifier
A1: 60-69 ans | B1: Un homme | C1: Ouvrier | D1: seul | E1: Je connaissais déjà la structure | F1: oui | G1: oui | I1: Oui beaucoup | J1: Je me sens très souvent en difficulté | K1: Très satisfaisait | L1: Oui tout à fait | M1: Oui tout à fait | N1: Oui tout à fait | O1: Oui tout à fait | P1: oui, avec plusieurs
A2: 70-79 ans | B2: Une femme | C2: Employé | D2: avec votre conjoint | E2: Un proche m'en a parlé | F2: non | G2: non | I2: Oui un peu | J2: Je me sens souvent en difficulté | K2: Satisfaisait | L2: Oui un peu | M2: Oui un peu | N2: Oui un peu | O2: Oui un peu | P2: oui, avec une ou deux
A3: 80-89 ans | C3: Profession intermédiaire | D3: avec une ou plusieurs autres personnes (préciser : texte libre) | E3: Un professionnel m’en a parlé | I3: Non pas vraiment | J3: Je me sens parfois en difficulté | K3: Insatisfait | L3: Non pas vraiment | M3: Non pas vraiment | N3: Non pas vraiment | O3: Non pas vraiment | P3: non
A4: 90 ans et plus | C4: Cadre, profession intellectuelle supérieure | E4: Autre : précisez | I4: Non pas du tout | J4: Je ne me sens Jamais en difficulté | K4: Très insatisfait | L4: Non pas du tout | M4: Non pas du tout | N4: Non pas du tout | O4: Non pas du tout
C5: Artisan, commerçant ou chef d'entreprise | I5: Je ne sais pas | L5: Je ne sais pas | M5: Je ne sais pas | N5: Je ne sais pas | O5: Je ne sais pas
C6: Agriculteur exploitant
C7: Sans activité professionnelle
